BEGIN:VCALENDAR
VERSION:2.0
PRODID:-//Augusta-Aiken Audubon - ECPv6.15.20//NONSGML v1.0//EN
CALSCALE:GREGORIAN
METHOD:PUBLISH
X-WR-CALNAME:Augusta-Aiken Audubon
X-ORIGINAL-URL:https://augustaaikenaudubon.org
X-WR-CALDESC:Events for Augusta-Aiken Audubon
REFRESH-INTERVAL;VALUE=DURATION:PT1H
X-Robots-Tag:noindex
X-PUBLISHED-TTL:PT1H
BEGIN:VTIMEZONE
TZID:UTC
BEGIN:STANDARD
TZOFFSETFROM:+0000
TZOFFSETTO:+0000
TZNAME:UTC
DTSTART:20250101T000000
END:STANDARD
END:VTIMEZONE
BEGIN:VEVENT
DTSTART;TZID=UTC:20260110T090000
DTEND;TZID=UTC:20260110T120000
DTSTAMP:20260421T090859
CREATED:20251223T020451Z
LAST-MODIFIED:20251223T020451Z
UID:1257-1768035600-1768046400@augustaaikenaudubon.org
SUMMARY:Brickyard Ponds
DESCRIPTION:Meet at Popeyes on Gordon Highway and Walton Way in Augusta at 9 am to carpool.  There is a $4 charge per person to access the property.  We may go past noon depending on the birding.
URL:https://augustaaikenaudubon.org/event/brickyard-ponds-2/
CATEGORIES:Field Trips
END:VEVENT
END:VCALENDAR