BEGIN:VCALENDAR
VERSION:2.0
PRODID:-//Augusta-Aiken Audubon - ECPv6.15.20//NONSGML v1.0//EN
CALSCALE:GREGORIAN
METHOD:PUBLISH
X-WR-CALNAME:Augusta-Aiken Audubon
X-ORIGINAL-URL:https://augustaaikenaudubon.org
X-WR-CALDESC:Events for Augusta-Aiken Audubon
REFRESH-INTERVAL;VALUE=DURATION:PT1H
X-Robots-Tag:noindex
X-PUBLISHED-TTL:PT1H
BEGIN:VTIMEZONE
TZID:UTC
BEGIN:STANDARD
TZOFFSETFROM:+0000
TZOFFSETTO:+0000
TZNAME:UTC
DTSTART:20250101T000000
END:STANDARD
END:VTIMEZONE
BEGIN:VEVENT
DTSTART;TZID=UTC:20260214T070000
DTEND;TZID=UTC:20260214T170000
DTSTAMP:20260421T152255
CREATED:20251223T022554Z
LAST-MODIFIED:20260210T141736Z
UID:1267-1771052400-1771088400@augustaaikenaudubon.org
SUMMARY:Bear Island Wildlife Management Area
DESCRIPTION:Meet at Silver Bluff Kathwood Ponds at 7 am (note time).  We will carpool and drive 2.5 hours to Bear Island WMA.  We will look for waterfowl\, swans\, pelicans\, shorebirds and more.  Bring lunch\, snacks and drinks.  Please confirm by email to Lois Stacey at birdercroakie@gmail.com if attending.
URL:https://augustaaikenaudubon.org/event/bear-island/
LOCATION:Bennetts Point Rd\, Green Pond\, SC
CATEGORIES:Field Trips
END:VEVENT
END:VCALENDAR