BEGIN:VCALENDAR
VERSION:2.0
PRODID:-//Augusta-Aiken Audubon - ECPv6.15.20//NONSGML v1.0//EN
CALSCALE:GREGORIAN
METHOD:PUBLISH
X-ORIGINAL-URL:https://augustaaikenaudubon.org
X-WR-CALDESC:Events for Augusta-Aiken Audubon
REFRESH-INTERVAL;VALUE=DURATION:PT1H
X-Robots-Tag:noindex
X-PUBLISHED-TTL:PT1H
BEGIN:VTIMEZONE
TZID:UTC
BEGIN:STANDARD
TZOFFSETFROM:+0000
TZOFFSETTO:+0000
TZNAME:UTC
DTSTART:20250101T000000
END:STANDARD
END:VTIMEZONE
BEGIN:VEVENT
DTSTART;TZID=UTC:20260221T090000
DTEND;TZID=UTC:20260221T120000
DTSTAMP:20260421T180814
CREATED:20251223T022856Z
LAST-MODIFIED:20251223T022856Z
UID:1269-1771664400-1771675200@augustaaikenaudubon.org
SUMMARY:Gum Swamp Rd
DESCRIPTION:Meet at the Silver Bluff Kathwood Ponds at 9 am to carpool.  We will bird the length of Gum Swamp Rd looking for wintering birds such as sparrows\, rusty blackbirds\, and brown creeper.  You never know what you will find here.
URL:https://augustaaikenaudubon.org/event/gum-swamp-rd/
CATEGORIES:Field Trips
END:VEVENT
END:VCALENDAR