BEGIN:VCALENDAR
VERSION:2.0
PRODID:-//Augusta-Aiken Audubon - ECPv6.15.20//NONSGML v1.0//EN
CALSCALE:GREGORIAN
METHOD:PUBLISH
X-ORIGINAL-URL:https://augustaaikenaudubon.org
X-WR-CALDESC:Events for Augusta-Aiken Audubon
REFRESH-INTERVAL;VALUE=DURATION:PT1H
X-Robots-Tag:noindex
X-PUBLISHED-TTL:PT1H
BEGIN:VTIMEZONE
TZID:UTC
BEGIN:STANDARD
TZOFFSETFROM:+0000
TZOFFSETTO:+0000
TZNAME:UTC
DTSTART:20230101T000000
END:STANDARD
END:VTIMEZONE
BEGIN:VEVENT
DTSTART;TZID=UTC:20241123T090000
DTEND;TZID=UTC:20241123T120000
DTSTAMP:20260419T132757
CREATED:20240831T020305Z
LAST-MODIFIED:20240831T020305Z
UID:997-1732352400-1732363200@augustaaikenaudubon.org
SUMMARY:Silver Bluff Kathwood Ponds
DESCRIPTION:Meet at the Kathwood Ponds at Silver Bluff Audubon Sanctuary at 9am to walk around the pond looking for winter arrivals. Ducks and sparrows may have started arriving by this time.
URL:https://augustaaikenaudubon.org/event/silver-bluff-kathwood-ponds/
CATEGORIES:Field Trips
END:VEVENT
BEGIN:VEVENT
DTSTART;TZID=UTC:20241116T090000
DTEND;TZID=UTC:20241116T120000
DTSTAMP:20260419T132757
CREATED:20240831T020117Z
LAST-MODIFIED:20240831T020117Z
UID:995-1731747600-1731758400@augustaaikenaudubon.org
SUMMARY:Lovers Lane
DESCRIPTION:Lover’s Lane – meet at Popeye’s at Walton Way and Gordon Hwy at 9am to carpool to Lover’s Lane looking for winter residents such as sparrows.
URL:https://augustaaikenaudubon.org/event/lovers-lane-3/
CATEGORIES:Field Trips
END:VEVENT
BEGIN:VEVENT
DTSTART;TZID=UTC:20241019T080000
DTEND;TZID=UTC:20241019T113000
DTSTAMP:20260419T132757
CREATED:20240831T015651Z
LAST-MODIFIED:20240831T015651Z
UID:993-1729324800-1729337400@augustaaikenaudubon.org
SUMMARY:Phinizy Swamp Nature Park
DESCRIPTION:Phinizy Swamp NP – meet in the parking lot at Phinizy Swamp NP at 8am to walk the 2.5-mile loop looking for fall arrivals and late migrants.
URL:https://augustaaikenaudubon.org/event/phinizy-swamp-nature-park-2/
CATEGORIES:Field Trips
END:VEVENT
BEGIN:VEVENT
DTSTART;TZID=UTC:20241005T080000
DTEND;TZID=UTC:20241005T113000
DTSTAMP:20260419T132757
CREATED:20240831T015514Z
LAST-MODIFIED:20240831T015514Z
UID:991-1728115200-1728127800@augustaaikenaudubon.org
SUMMARY:Aiken County Migration Count
DESCRIPTION:Aiken County migration count – count birds in Aiken County wherever you like and turn in your counts\, miles traveled\, and time taken.
URL:https://augustaaikenaudubon.org/event/aiken-county-migration-count/
CATEGORIES:Field Trips
END:VEVENT
BEGIN:VEVENT
DTSTART;TZID=UTC:20240928T080000
DTEND;TZID=UTC:20240928T120000
DTSTAMP:20260419T132757
CREATED:20240831T015045Z
LAST-MODIFIED:20240831T015045Z
UID:989-1727510400-1727524800@augustaaikenaudubon.org
SUMMARY:Phinizy Swamp
DESCRIPTION:Fall Migration Walk. Meet at the parking lot at Phinizy Swamp NP at 8 am to walk the trails looking for fall migrants. This is a Phinizy Swamp walk and there is a charge of $10 and pre-registration is required. You can register at their website at www.phinizycenter.org.
URL:https://augustaaikenaudubon.org/event/phinizy-swamp/
CATEGORIES:Field Trips
END:VEVENT
BEGIN:VEVENT
DTSTART;TZID=UTC:20240928T080000
DTEND;TZID=UTC:20240928T113000
DTSTAMP:20260419T132757
CREATED:20240831T014756Z
LAST-MODIFIED:20240831T014756Z
UID:986-1727510400-1727523000@augustaaikenaudubon.org
SUMMARY:Pendleton King Park
DESCRIPTION:Meet at Pendleton King Park in Augusta at 8:00 am to walk the property looking for migrants.  Pendleton King is a warbler sink and can have some very good birds.
URL:https://augustaaikenaudubon.org/event/pendleton-king-park/
CATEGORIES:Field Trips
END:VEVENT
BEGIN:VEVENT
DTSTART;TZID=UTC:20240921T080000
DTEND;TZID=UTC:20240921T113000
DTSTAMP:20260419T132757
CREATED:20240831T014542Z
LAST-MODIFIED:20240831T014542Z
UID:983-1726905600-1726918200@augustaaikenaudubon.org
SUMMARY:Silver Bluff Tanager Trail
DESCRIPTION:Meet at the visitor center at Silver Bluff Audubon Sanctuary at 8:00 am.  We will walk the 2 mile Tanager Trail looking for fall migrants.
URL:https://augustaaikenaudubon.org/event/silver-bluff-tanager-trail/
CATEGORIES:Field Trips
END:VEVENT
BEGIN:VEVENT
DTSTART;TZID=UTC:20240914T080000
DTEND;TZID=UTC:20240914T113000
DTSTAMP:20260419T132757
CREATED:20240831T013515Z
LAST-MODIFIED:20240831T013515Z
UID:979-1726300800-1726313400@augustaaikenaudubon.org
SUMMARY:Lovers Lane
DESCRIPTION:Meet at Popeyes on Walton Way at 8:00 am to carpool to Lovers Lane to look for summer birds and early arriving fall migrants.
URL:https://augustaaikenaudubon.org/event/lovers-lane-2/
CATEGORIES:Field Trips
END:VEVENT
BEGIN:VEVENT
DTSTART;TZID=UTC:20240907T080000
DTEND;TZID=UTC:20240907T113000
DTSTAMP:20260419T132757
CREATED:20240831T014257Z
LAST-MODIFIED:20240831T014257Z
UID:977-1725696000-1725708600@augustaaikenaudubon.org
SUMMARY:Mistletoe State Park
DESCRIPTION:Birds and Plant Walk with Birds Georgia and Augusta Chapter of Georgia Native Plant Society.  Walk will highlight notable plant species around the park and discuss how invasive species affect our native ecosystems and the wildlife that depend on them. We’ll also be on the lookout for resident and migratory birds and discuss which native plants you can add to your landscape to attract the greatest variety of birds.
URL:https://augustaaikenaudubon.org/event/mistletoe-state-park/
CATEGORIES:Field Trips
END:VEVENT
BEGIN:VEVENT
DTSTART;TZID=UTC:20240810T080000
DTEND;TZID=UTC:20240810T080000
DTSTAMP:20260419T132757
CREATED:20240410T132007Z
LAST-MODIFIED:20240410T153846Z
UID:463-1723276800-1723276800@augustaaikenaudubon.org
SUMMARY:Phinizy Waders Drive
DESCRIPTION:This is a Phinizy trip and there is a cost of $5. Meet in the parking lot at Phinizy Swamp NP at 8 am to carpool. We will drive around the property looking for post-breeding dispersal waders and other birds. This can be your best chance to see a Tricolored Heron in Augusta as they are regular visitors this time of year. \nNOTE: Please confirm with Lois at 803-215-1594 or birdercroakie@gmail.com if you will be attending the trip. If no one confirms\, the trip may be canceled without notice.
URL:https://augustaaikenaudubon.org/event/phinizy-waders-drive/
LOCATION:Phinizy Swamp Nature Park\, 1858 Lock and Dam Road\, Augusta\, 30906\, United States
CATEGORIES:Field Trips
ATTACH;FMTTYPE=image/jpeg:https://augustaaikenaudubon.org/wp-content/uploads/2024/04/tri-colored-heron.jpg
ORGANIZER;CN="Lois":MAILTO:birdercroakie@gmail.com
END:VEVENT
BEGIN:VEVENT
DTSTART;TZID=UTC:20240727T070000
DTEND;TZID=UTC:20240727T070000
DTSTAMP:20260419T132757
CREATED:20240410T131724Z
LAST-MODIFIED:20240410T153846Z
UID:460-1722063600-1722063600@augustaaikenaudubon.org
SUMMARY:Kathwood Ponds
DESCRIPTION:Meet at the Kathwood Ponds at 7am (early start for more birds). The ponds should have been lowered by this point and we will look for Wood Storks\, other waders and shorebirds. \nNOTE: Please confirm with Lois at 803-215-1594 or birdercroakie@gmail.com if you will be attending the trip. If no one confirms\, the trip may be canceled without notice.
URL:https://augustaaikenaudubon.org/event/kathwood-ponds/
LOCATION:Kathwood Ponds\, 4542 Silver Bluff Rd\, Jackson\, SC\, United States
CATEGORIES:Field Trips
ATTACH;FMTTYPE=image/jpeg:https://augustaaikenaudubon.org/wp-content/uploads/2024/04/wood-stork.jpg
ORGANIZER;CN="Lois":MAILTO:birdercroakie@gmail.com
END:VEVENT
BEGIN:VEVENT
DTSTART;TZID=UTC:20240601T080000
DTEND;TZID=UTC:20240601T080000
DTSTAMP:20260419T132757
CREATED:20240410T131613Z
LAST-MODIFIED:20240410T153846Z
UID:457-1717228800-1717228800@augustaaikenaudubon.org
SUMMARY:Jackson Landing
DESCRIPTION:Meet at the Kathwood Ponds at Silver Bluff at 8 am to carpool to Jackson Landing Road in Jackson\, SC. We will drive the road looking for breeding birds. \nNOTE: Please confirm with Lois at 803-215-1594 or birdercroakie@gmail.com if you will be attending the trip. If no one confirms\, the trip may be canceled without notice.
URL:https://augustaaikenaudubon.org/event/jackson-landing/
LOCATION:Kathwood Ponds\, 4542 Silver Bluff Rd\, Jackson\, SC\, United States
CATEGORIES:Field Trips
ATTACH;FMTTYPE=image/jpeg:https://augustaaikenaudubon.org/wp-content/uploads/2024/04/june-1-jackson-landing.jpg
ORGANIZER;CN="Lois":MAILTO:birdercroakie@gmail.com
END:VEVENT
BEGIN:VEVENT
DTSTART;TZID=UTC:20240518T080000
DTEND;TZID=UTC:20240518T080000
DTSTAMP:20260419T132757
CREATED:20240410T131508Z
LAST-MODIFIED:20240410T153846Z
UID:454-1716019200-1716019200@augustaaikenaudubon.org
SUMMARY:Lover's Lane
DESCRIPTION:Meet at Popeye’s at Gordon Hwy and Walton Way at 8 am to carpool. We will bird Lover’s Lane and the Augusta Levee looking for breeding birds and late migrants. \nNOTE: Please confirm with Lois at 803-215-1594 or birdercroakie@gmail.com if you will be attending the trip. If no one confirms\, the trip may be canceled without notice.
URL:https://augustaaikenaudubon.org/event/lovers-lane/
LOCATION:Lover’s Lane
CATEGORIES:Field Trips
ATTACH;FMTTYPE=image/jpeg:https://augustaaikenaudubon.org/wp-content/uploads/2024/04/Lovers-lane.jpg
ORGANIZER;CN="Lois":MAILTO:birdercroakie@gmail.com
END:VEVENT
BEGIN:VEVENT
DTSTART;VALUE=DATE:20240504
DTEND;VALUE=DATE:20240505
DTSTAMP:20260419T132757
CREATED:20240410T131200Z
LAST-MODIFIED:20240415T173428Z
UID:448-1714780800-1714867199@augustaaikenaudubon.org
SUMMARY:Aiken County Spring Migration Count
DESCRIPTION:Choose an area in Aiken County or contact Lois Stacey to be assigned an area.  Count the birds you see and hear\, record on ebird and submit.  In order to complete your count\, please provide Lois with the number of hours\, minutes\, and distance\, spent birding by car and hours\, minutes\, and distance spent birding by walking.
URL:https://augustaaikenaudubon.org/event/aiken-county-spring-migration-count/
CATEGORIES:Field Trips
ATTACH;FMTTYPE=image/jpeg:https://augustaaikenaudubon.org/wp-content/uploads/2024/04/aiken-county-spring-migration-count.jpg
END:VEVENT
BEGIN:VEVENT
DTSTART;TZID=UTC:20240413T080000
DTEND;TZID=UTC:20240413T080000
DTSTAMP:20260419T132757
CREATED:20240410T131117Z
LAST-MODIFIED:20240410T153846Z
UID:444-1712995200-1712995200@augustaaikenaudubon.org
SUMMARY:Phinizy Swamp Nature Park
DESCRIPTION:Meet in the parking lot at Phinizy Swamp NP at 8 am. We will walk around the park (up to 2.5 miles) looking for spring arrivals. \nNOTE: Please confirm with Lois at 803-215-1594 or birdercroakie@gmail.com if you will be attending the trip. If no one confirms\, the trip may be canceled without notice.
URL:https://augustaaikenaudubon.org/event/phinizy-swamp-nature-park/
LOCATION:Phinizy Swamp Nature Park\, 1858 Lock and Dam Road\, Augusta\, 30906\, United States
CATEGORIES:Field Trips
ATTACH;FMTTYPE=image/jpeg:https://augustaaikenaudubon.org/wp-content/uploads/2024/04/phinizy-swamp-np.jpg
ORGANIZER;CN="Lois":MAILTO:birdercroakie@gmail.com
END:VEVENT
BEGIN:VEVENT
DTSTART;TZID=UTC:20240410T080000
DTEND;TZID=UTC:20240410T080000
DTSTAMP:20260419T132757
CREATED:20240410T131349Z
LAST-MODIFIED:20240410T153846Z
UID:451-1712736000-1712736000@augustaaikenaudubon.org
SUMMARY:Wings and Things at Crackerneck
DESCRIPTION:Meet at 8 am at the check-in gate at Crackerneck WMA. Crackerneck is located in Jackson\, SC. From Old Jackson Hwy/Main St turn right onto Brown Rd (at the Baseball Field) and continue until you see the sign to turn left to the gate. We will spend the day driving the roads\, looking for birds\, bugs\, reptiles\, and plants (plus whatever else we find). Bring lunch\, water\, bug spray\, and whatever else you will need. Crackerneck is only open to the public on Saturdays in March\, May\, and September. \nNOTE: Please confirm with Lois at 803-215-1594 or birdercroakie@gmail.com if you will be attending the trip. If no one confirms\, the trip may be canceled without notice.
URL:https://augustaaikenaudubon.org/event/wings-and-things-at-crackerneck/
LOCATION:Crackerneck
CATEGORIES:Field Trips
ATTACH;FMTTYPE=image/jpeg:https://augustaaikenaudubon.org/wp-content/uploads/2024/04/crackerneck.jpg
ORGANIZER;CN="Lois":MAILTO:birdercroakie@gmail.com
END:VEVENT
END:VCALENDAR